BEGIN:VCALENDAR
VERSION:2.0
PRODID:-//eventon.com NONSGML v1.0//EN
CALSCALE:GREGORIAN
METHOD:PUBLISH
BEGIN:VEVENT
UID:69e61b0e71c9b
DTSTAMP:20260420T122446Z
DTSTART:20250719T230000Z
DTEND:20250720T010000Z
LOCATION:
SUMMARY:Private Event - Farmingdale\,  NJ
DESCRIPTION:\nhttps://blacktiesband.com/events/private-event-7-19-2025-farm
 ingdale-nj/
URL:https://blacktiesband.com/events/private-event-7-19-2025-farmingdale-nj/
END:VEVENT
END:VCALENDAR