BEGIN:VCALENDAR
VERSION:2.0
PRODID:-//eventon.com NONSGML v1.0//EN
CALSCALE:GREGORIAN
METHOD:PUBLISH
BEGIN:VEVENT
UID:69e89f32e4ae1
DTSTAMP:20260422T101306Z
DTSTART:20250614T213000Z
DTEND:20250614T233000Z
LOCATION:
SUMMARY:Private Event
DESCRIPTION:\nhttps://blacktiesband.com/events/private-event-6-14-2025/
URL:https://blacktiesband.com/events/private-event-6-14-2025/
END:VEVENT
END:VCALENDAR