BEGIN:VCALENDAR
VERSION:2.0
PRODID:-//eventon.com NONSGML v1.0//EN
CALSCALE:GREGORIAN
METHOD:PUBLISH
BEGIN:VEVENT
UID:69e8a188da81a
DTSTAMP:20260422T102304Z
DTSTART:20250604T180000Z
DTEND:20250604T220000Z
LOCATION:Martell&#039;s Tiki Bar 308 Boardwalk\,  Point Pleasant Beach\,  NJ 08742
SUMMARY:Midweek Vibes with Ties Trio at Martell’s Tiki Bar
DESCRIPTION:Looking to add a little rhythm to your weekday? Join the Ties T
 rio for an upbeat afternoon of live music at Martell’s Tiki Bar in Point 
 Pleasant Beach on Wednesday\,  June 4\,  2025\,  from 2:00 PM to 6:00 PM. K
 nown for their eclectic mix of pop\,  rock\,  and feel-good anthems\, [..]\
 nhttps://blacktiesband.com/events/martells-tiki-bar-6-4-2025/
URL:https://blacktiesband.com/events/martells-tiki-bar-6-4-2025/
END:VEVENT
END:VCALENDAR