BEGIN:VCALENDAR
VERSION:2.0
PRODID:-//eventon.com NONSGML v1.0//EN
CALSCALE:GREGORIAN
METHOD:PUBLISH
BEGIN:VEVENT
UID:69e57d7674ae4
DTSTAMP:20260420T011222Z
DTSTART:20250531T220000Z
DTEND:20250601T020000Z
LOCATION:The Wharfside Seafood &amp; Patio Bar 101 Channel Dr\,  Point Pleasant Beach\,  NJ 08742
SUMMARY:Ties Rock the Jersey Shore at The Wharfside
DESCRIPTION:Get ready for a perfect Jersey Shore Saturday as Ties brings th
 eir signature sound to The Wharfside Seafood &amp; Patio Bar on May 31\,  2
 025\,  from 6:00 PM to 10:00 PM. This punchy New Jersey-based band is known
  for turning up the energy with crowd favorites\,  rock classics\,  and mod
 ern[..]\nhttps://blacktiesband.com/events/wharfside-seafood-and-patio-bar-5
 -31-2025/
URL:https://blacktiesband.com/events/wharfside-seafood-and-patio-bar-5-31-2025/
END:VEVENT
END:VCALENDAR