BEGIN:VCALENDAR
VERSION:2.0
PRODID:-//eventon.com NONSGML v1.0//EN
CALSCALE:GREGORIAN
METHOD:PUBLISH
BEGIN:VEVENT
UID:69e8b41bb5bd9
DTSTAMP:20260422T114219Z
DTSTART:20241102T183000Z
DTEND:20241102T200000Z
LOCATION:
SUMMARY:Support Oasis with The Black Ties at Fundraiser Event
DESCRIPTION:Come join The Black Ties on Saturday\,  November 2\,  2024\,  f
 rom 2:30 PM to 4:00 PM at a special fundraiser in Middletown\,  NJ\,  in su
 pport of Oasis – A Haven for Women and Children. Oasis is a nonprofit org
 anization that provides essential services such as hot meals\,  clothing\, 
  emergency food\, [..]\nhttps://blacktiesband.com/events/oasis-11-2-2024/
URL:https://blacktiesband.com/events/oasis-11-2-2024/
END:VEVENT
END:VCALENDAR