BEGIN:VCALENDAR
VERSION:2.0
PRODID:-//eventon.com NONSGML v1.0//EN
CALSCALE:GREGORIAN
METHOD:PUBLISH
BEGIN:VEVENT
UID:69e6dfc152634
DTSTAMP:20260421T022401Z
DTSTART:20241116T013000Z
DTEND:20241116T040000Z
LOCATION:Stoner Grille 605 Granite Run Drive
SUMMARY:Live Music with The Black Ties at Stoner Grille
DESCRIPTION:Join us for a fantastic night of live music at Stoner Grille on
  November 15\,  2024\,  from 8:30 PM to 11:00 PM\,  as The Black Ties retur
 n to light up the stage. Located at 605 Granite Run Drive in Lancaster\,  P
 A\,  Stoner Grille offers the perfect blend of delicious food\, [..]\nhttps
 ://blacktiesband.com/events/stoner-grille-11-15-2024/
URL:https://blacktiesband.com/events/stoner-grille-11-15-2024/
END:VEVENT
END:VCALENDAR