BEGIN:VCALENDAR
VERSION:2.0
PRODID:-//eventon.com NONSGML v1.0//EN
CALSCALE:GREGORIAN
METHOD:PUBLISH
BEGIN:VEVENT
UID:69e54bf8754e3
DTSTAMP:20260419T214112Z
DTSTART:20240928T180000Z
DTEND:20240928T184500Z
LOCATION:The St. Laurent Social Club 408 7th Ave\,  Asbury Park\,  NJ 07712
SUMMARY:The Black Ties Live at Asbury Park Porchfest 2024
DESCRIPTION:Join The Black Ties for a special performance at the 8th Annual
  Asbury Park Porchfest on September 28\,  2024\,  from 2:00 PM to 2:45 PM a
 t the St Laurent Social Club\,  located at 408 7th Avenue\,  Asbury Park\, 
  NJ. Asbury Park Porchfest is the largest Porchfest in the Northeast\,  bri
 nging[..]\nhttps://blacktiesband.com/events/asbury-park-porchfest-2024/
URL:https://blacktiesband.com/events/asbury-park-porchfest-2024/
END:VEVENT
END:VCALENDAR