BEGIN:VCALENDAR
VERSION:2.0
PRODID:-//eventon.com NONSGML v1.0//EN
CALSCALE:GREGORIAN
METHOD:PUBLISH
BEGIN:VEVENT
UID:69e57d7674f2f
DTSTAMP:20260420T011222Z
DTSTART:20240921T220000Z
DTEND:20240922T003000Z
LOCATION:Soldier Memorial Park Soldier Memorial Park\,  Lakewood Farmingdale Rd\,  Howell Township\,  NJ
SUMMARY:Celebrate Howell Day with The Black Ties at Soldier Memorial Park
DESCRIPTION:Join us on September 21\,  2024\,  for an exciting evening of l
 ive music as The Black Ties perform at Howell Day\,  held at Soldier Memori
 al Park from 6:00 PM to 8:30 PM. Located at 587-593 Lakewood Farmingdale Rd
 \,  Howell Township\,  NJ\,  this annual community celebration offers a day
  filled with[..]\nhttps://blacktiesband.com/events/howell-day-9-21-2024/
URL:https://blacktiesband.com/events/howell-day-9-21-2024/
END:VEVENT
END:VCALENDAR