BEGIN:VCALENDAR
VERSION:2.0
PRODID:-//eventon.com NONSGML v1.0//EN
CALSCALE:GREGORIAN
METHOD:PUBLISH
BEGIN:VEVENT
UID:69e6cfb0bbed5
DTSTAMP:20260421T011528Z
DTSTART:20240817T170000Z
DTEND:20240817T200000Z
LOCATION:Bell Works 101 Crawfords Corner Rd
SUMMARY:Afternoon Tunes with The Black Ties Duo at Bell Works
DESCRIPTION:Join us for an engaging afternoon at Bell Works on August 17\, 
  2024\,  as The Black Ties Duo brings their captivating live performance to
  Holmdel\,  NJ. From 1:00 PM to 4:00 PM\,  enjoy the melodic sounds of this
  talented duo while exploring the dynamic and reimagined space of Bell Work
 s\, [..]\nhttps://blacktiesband.com/events/bell-works-8-17-2024/
URL:https://blacktiesband.com/events/bell-works-8-17-2024/
END:VEVENT
END:VCALENDAR