BEGIN:VCALENDAR
VERSION:2.0
PRODID:-//eventon.com NONSGML v1.0//EN
CALSCALE:GREGORIAN
METHOD:PUBLISH
BEGIN:VEVENT
UID:69e57c7e5ce5a
DTSTAMP:20260420T010814Z
DTSTART:20240810T190000Z
DTEND:20240810T210000Z
LOCATION:
SUMMARY:Private Event
DESCRIPTION:\nhttps://blacktiesband.com/events/private-event-8-10-2024-colt
 s-neck/
URL:https://blacktiesband.com/events/private-event-8-10-2024-colts-neck/
END:VEVENT
END:VCALENDAR