BEGIN:VCALENDAR
VERSION:2.0
PRODID:-//eventon.com NONSGML v1.0//EN
CALSCALE:GREGORIAN
METHOD:PUBLISH
BEGIN:VEVENT
UID:69e57dafa5676
DTSTAMP:20260420T011319Z
DTSTART:20240721T190000Z
DTEND:20240722T000000Z
LOCATION:
SUMMARY:Private Event
DESCRIPTION:\nhttps://blacktiesband.com/events/private-event-7-21-2024-holm
 del/
URL:https://blacktiesband.com/events/private-event-7-21-2024-holmdel/
END:VEVENT
END:VCALENDAR