BEGIN:VCALENDAR
VERSION:2.0
PRODID:-//eventon.com NONSGML v1.0//EN
CALSCALE:GREGORIAN
METHOD:PUBLISH
BEGIN:VEVENT
UID:69e5b98f5ccff
DTSTAMP:20260420T052847Z
DTSTART:20240717T180000Z
DTEND:20240717T220000Z
LOCATION:Martell&#039;s Tiki Bar 308 Boardwalk\,  Point Pleasant Beach\,  NJ 08742
SUMMARY:Groove with The Black Ties Trio at Martell's Tiki Bar
DESCRIPTION:Celebrate the summer vibes at Martell&#8217;s Tiki Bar on July 
 17\,  2024\,  from 2:00 PM to 6:00 PM\,  as The Black Ties Trio brings thei
 r energetic live performance to Point Pleasant Beach\,  NJ. Located at 312 
 Boardwalk\,  Martell&#8217;s Tiki Bar is renowned for its thirst-quenching 
 tropical drinks\,  mouthwatering dining options\, [..]\nhttps://blacktiesba
 nd.com/events/martells-tiki-bar-7-19-2024/
URL:https://blacktiesband.com/events/martells-tiki-bar-7-19-2024/
END:VEVENT
END:VCALENDAR