BEGIN:VCALENDAR
VERSION:2.0
PRODID:-//eventon.com NONSGML v1.0//EN
CALSCALE:GREGORIAN
METHOD:PUBLISH
BEGIN:VEVENT
UID:69eaa19f61471
DTSTAMP:20260423T224759Z
DTSTART:20240612T160000Z
DTEND:20240612T190000Z
LOCATION:Bell Works 101 Crawfords Corner Rd
SUMMARY:The Black Ties Duo Live at Bell Works
DESCRIPTION:Join us for an engaging afternoon at Bell Works on June 12\,  2
 024\,  as The Black Ties Duo brings their captivating live performance to H
 olmdel\,  NJ. From 12:00 PM to 3:00 PM\,  enjoy the melodic sounds of this 
 talented duo while exploring the dynamic and reimagined space of Bell Works
 \, [..]\nhttps://blacktiesband.com/events/bell-works-6-12-2024/
URL:https://blacktiesband.com/events/bell-works-6-12-2024/
END:VEVENT
END:VCALENDAR