BEGIN:VCALENDAR
VERSION:2.0
PRODID:-//eventon.com NONSGML v1.0//EN
CALSCALE:GREGORIAN
METHOD:PUBLISH
BEGIN:VEVENT
UID:69eb0bc2a1790
DTSTAMP:20260424T062050Z
DTSTART:20240619T180000Z
DTEND:20240619T220000Z
LOCATION:Martell&#039;s Tiki Bar 308 Boardwalk\,  Point Pleasant Beach\,  NJ 08742
SUMMARY:Jam with The Black Ties Trio at Martell's Tiki Bar
DESCRIPTION:Get ready for an unforgettable afternoon at Martell&#8217;s Tik
 i Bar on June 19\,  2024\,  as The Black Ties Trio brings their dynamic liv
 e music performance to Point Pleasant Beach\,  NJ. From 2:00 PM to 6:00 PM\
 ,  immerse yourself in the vibrant sounds of this talented group while enjo
 ying the tropical[..]\nhttps://blacktiesband.com/events/martells-tiki-bar-6
 -19-2024/
URL:https://blacktiesband.com/events/martells-tiki-bar-6-19-2024/
END:VEVENT
END:VCALENDAR