BEGIN:VCALENDAR
VERSION:2.0
PRODID:-//eventon.com NONSGML v1.0//EN
CALSCALE:GREGORIAN
METHOD:PUBLISH
BEGIN:VEVENT
UID:69e8a0bc5e223
DTSTAMP:20260422T101940Z
DTSTART:20231209T013000Z
DTEND:20231209T040000Z
LOCATION:Stoner Grille 605 Granite Run Drive
SUMMARY:Rock the Night Away with The Black Ties at Stoner Grille
DESCRIPTION:Get ready\,  Lancaster! The Black Ties are bringing their vibra
 nt energy and eclectic sound to Stoner Grille on December 8th\,  2023\,  fr
 om 8:30 PM to 11:00 PM. This much-anticipated event at Stoner Commons\,  lo
 cated at 605 Granite Run Drive\,  promises an evening brimming with musical
  prowess and unforgettable entertainment. Stoner[..]\nhttps://blacktiesband
 .com/events/stoner-grille-12-8-2023/
URL:https://blacktiesband.com/events/stoner-grille-12-8-2023/
END:VEVENT
END:VCALENDAR