BEGIN:VCALENDAR
VERSION:2.0
PRODID:-//eventon.com NONSGML v1.0//EN
CALSCALE:GREGORIAN
METHOD:PUBLISH
BEGIN:VEVENT
UID:69e56388126ce
DTSTAMP:20260419T232144Z
DTSTART:20231007T190000Z
DTEND:20231007T220000Z
LOCATION:Cherry Crest Adventure Farm 150 Cherry Hill Rd\,  Ronks\,  PA 17572
SUMMARY:The Black Ties at Cherry Crest Adventure Farm
DESCRIPTION:Join The Black Ties at Cherry Crest Adventure Farm for an after
 noon of rock and roll and fun. The Black Ties are known for performing well
 -known crowd pleasers and fan favorites.\,  as well as originals and modern
  hits.\nhttps://blacktiesband.com/events/cherry-crest-adventure-farm-10-7-2
 023/
URL:https://blacktiesband.com/events/cherry-crest-adventure-farm-10-7-2023/
END:VEVENT
END:VCALENDAR