BEGIN:VCALENDAR
VERSION:2.0
PRODID:-//eventon.com NONSGML v1.0//EN
CALSCALE:GREGORIAN
METHOD:PUBLISH
BEGIN:VEVENT
UID:69e748059cbe1
DTSTAMP:20260421T094853Z
DTSTART:20230809T220000Z
DTEND:20230810T020000Z
LOCATION:The Wharfside Seafood &amp; Patio Bar 101 Channel Dr\,  Point Pleasant Beach\,  NJ 08742
SUMMARY:The Black Ties at The Wharfside Seafood & Patio Bar
DESCRIPTION:Live music in Point Pleasant just got even better with The Blac
 k Ties at The Wharfside Seafood &amp; Patio Bar. On August 9th\,  this icon
 ic venue will be hosting the four-piece rock and roll band\,  promising to 
 deliver an evening of energetic and entertaining music. The Wharfside Seafo
 od &amp; Patio[..]\nhttps://blacktiesband.com/events/wharfside-seafood-pati
 o-bar-8-9-2023/
URL:https://blacktiesband.com/events/wharfside-seafood-patio-bar-8-9-2023/
END:VEVENT
END:VCALENDAR