BEGIN:VCALENDAR
VERSION:2.0
PRODID:-//eventon.com NONSGML v1.0//EN
CALSCALE:GREGORIAN
METHOD:PUBLISH
BEGIN:VEVENT
UID:69e5b9d39217e
DTSTAMP:20260420T052955Z
DTSTART:20230716T003000Z
DTEND:20230716T043000Z
LOCATION:Boardwalk Bar &amp; Grill 401 Boardwalk\,  Point Pleasant Beach\,  NJ 08742
SUMMARY:The Black Ties at Boardwalk Bar and Grill
DESCRIPTION:Check out The Black Ties at Boardwalk Bar and Grill\,  located 
 at the Point Pleasant Beach Boardwalk.\nhttps://blacktiesband.com/events/bo
 ardwalk-bar-and-grill-7-15-2023/
URL:https://blacktiesband.com/events/boardwalk-bar-and-grill-7-15-2023/
END:VEVENT
END:VCALENDAR