BEGIN:VCALENDAR
VERSION:2.0
PRODID:-//eventon.com NONSGML v1.0//EN
CALSCALE:GREGORIAN
METHOD:PUBLISH
BEGIN:VEVENT
UID:69e6cfeebcd81
DTSTAMP:20260421T011630Z
DTSTART:20230705T180000Z
DTEND:20230705T220000Z
LOCATION:Martell&#039;s Tiki Bar 308 Boardwalk\,  Point Pleasant Beach\,  NJ 08742
SUMMARY:The Black Ties Trio at Martell’s Tiki Bar
DESCRIPTION:Come rock and roll with the Black Ties Trio at Martell&#8217;s 
 Tiki Bar\,  in Point Pleasant\,  NJ. Get ready to rock out with the Black T
 ies Trio at Martell&#8217;s Tiki Bar! This dynamic group of musicians will 
 take you on a musical journey through several decades of rock n&#8217; roll
 .[..]\nhttps://blacktiesband.com/events/martells-tiki-bar-7-5-2023/
URL:https://blacktiesband.com/events/martells-tiki-bar-7-5-2023/
END:VEVENT
END:VCALENDAR