BEGIN:VCALENDAR
VERSION:2.0
PRODID:-//eventon.com NONSGML v1.0//EN
CALSCALE:GREGORIAN
METHOD:PUBLISH
BEGIN:VEVENT
UID:69e5b8a9b74e8
DTSTAMP:20260420T052457Z
DTSTART:20230623T230000Z
DTEND:20230624T020000Z
LOCATION:Stoner Grille 605 Granite Run Drive
SUMMARY:The Black Ties at Stoner Grille
DESCRIPTION:Get ready to rock out with The Black Ties at Stoner Grille! Thi
 s four-piece rock and roll band hailing from central Jersey will have you o
 n your feet with their rollicking Beatles covers and extensive repertoire s
 panning several decades of rock n’ roll. From Chuck Berry to Oasis and Gr
 een[..]\nhttps://blacktiesband.com/events/stoner-grille-6-23-2023/
URL:https://blacktiesband.com/events/stoner-grille-6-23-2023/
END:VEVENT
END:VCALENDAR