BEGIN:VCALENDAR
VERSION:2.0
PRODID:-//eventon.com NONSGML v1.0//EN
CALSCALE:GREGORIAN
METHOD:PUBLISH
BEGIN:VEVENT
UID:69e88baccde49
DTSTAMP:20260422T084948Z
DTSTART:20230621T180000Z
DTEND:20230621T220000Z
LOCATION:Martell&#039;s Tiki Bar 308 Boardwalk\,  Point Pleasant Beach\,  NJ 08742
SUMMARY:The Black Ties Trio at Martell’s Tiki Bar
DESCRIPTION:Come jam with the Black Ties Trio at Martell&#8217;s Tiki Bar\,
   in Point Pleasant\,  NJ. Get ready to rock out with the Black Ties at Mar
 tell&#8217;s Tiki Bar! This dynamic group of musicians will take you on a m
 usical journey through several decades of rock n&#8217; roll. Their extensi
 ve repertoire[..]\nhttps://blacktiesband.com/events/martells-tiki-bar-6-21-
 2023/
URL:https://blacktiesband.com/events/martells-tiki-bar-6-21-2023/
END:VEVENT
END:VCALENDAR