BEGIN:VCALENDAR
VERSION:2.0
PRODID:-//eventon.com NONSGML v1.0//EN
CALSCALE:GREGORIAN
METHOD:PUBLISH
BEGIN:VEVENT
UID:69e88856e13c7
DTSTAMP:20260422T083534Z
DTSTART:20230610T010000Z
DTEND:20230610T035900Z
LOCATION:Jamian&#039;s Food and Drink 79 Monmouth Street\,  Red Bank\,  New Jersey
SUMMARY:The Black Ties at Jamian’s Food and Drink
DESCRIPTION:Join The Black Ties at Jamian&#8217;s Food and Drink for a nigh
 t of live music and entertainment. This casual restaurant and bar in Red Ba
 nk offers a lively atmosphere and a patio\,  perfect for enjoying drinks an
 d dinner while listening to local bands. The Black Ties\,  a four-piece roc
 k and[..]\nhttps://blacktiesband.com/events/jamians-food-and-drink-6-9-2023
 /
URL:https://blacktiesband.com/events/jamians-food-and-drink-6-9-2023/
END:VEVENT
END:VCALENDAR