BEGIN:VCALENDAR
VERSION:2.0
PRODID:-//eventon.com NONSGML v1.0//EN
CALSCALE:GREGORIAN
METHOD:PUBLISH
BEGIN:VEVENT
UID:69e52d2189a1e
DTSTAMP:20260419T192937Z
DTSTART:20230513T180000Z
DTEND:20230513T210000Z
LOCATION:Bayonet Farm 41 Middletown Rd\,  Holmdel\,  NJ 07733
SUMMARY:The Black Ties at Spring for Conservation
DESCRIPTION:Joint The Black Ties at Spring for Conservation\,  held at Bayo
 net Farm in Holmdel\,  New Jersey. Hosted by the Monmouth Conservation Foun
 dation\,  the afternoon will feature live music and sponsorship opportuniti
 es.\nhttps://blacktiesband.com/events/spring-for-conservation-5-13-2023/
URL:https://blacktiesband.com/events/spring-for-conservation-5-13-2023/
END:VEVENT
END:VCALENDAR