BEGIN:VCALENDAR
VERSION:2.0
PRODID:-//eventon.com NONSGML v1.0//EN
CALSCALE:GREGORIAN
METHOD:PUBLISH
BEGIN:VEVENT
UID:69e8882a4c7ce
DTSTAMP:20260422T083450Z
DTSTART:20230325T230000Z
DTEND:20230326T000000Z
LOCATION:Martell&#039;s Tiki Bar 308 Boardwalk\,  Point Pleasant Beach\,  NJ 08742
SUMMARY:The Black Ties at Earthshare NJ Rocks
DESCRIPTION:Get ready to rock the night away for a good cause at Earthshare
  NJ Rocks\,  taking place at Martell&#8217;s Tiki Bar in Point Pleasant\,  
 New Jersey! The event will feature a lineup of local bands\,  including the
  headlining act\,  The Black Ties. This four-piece rock and roll band from 
 central[..]\nhttps://blacktiesband.com/events/earthshare-nj-rocks-2023/
URL:https://blacktiesband.com/events/earthshare-nj-rocks-2023/
END:VEVENT
END:VCALENDAR