BEGIN:VCALENDAR
VERSION:2.0
PRODID:-//eventon.com NONSGML v1.0//EN
CALSCALE:GREGORIAN
METHOD:PUBLISH
BEGIN:VEVENT
UID:69e9f574ba7f4
DTSTAMP:20260423T103324Z
DTSTART:20230324T220000Z
DTEND:20230325T020000Z
LOCATION:
SUMMARY:Private Event - Staten Island NY
DESCRIPTION:\nhttps://blacktiesband.com/events/private-event-3-24-2023/
URL:https://blacktiesband.com/events/private-event-3-24-2023/
END:VEVENT
END:VCALENDAR