BEGIN:VCALENDAR
VERSION:2.0
PRODID:-//eventon.com NONSGML v1.0//EN
CALSCALE:GREGORIAN
METHOD:PUBLISH
BEGIN:VEVENT
UID:69e6d0c905698
DTSTAMP:20260421T012009Z
DTSTART:20230226T010000Z
DTEND:20230226T030000Z
LOCATION:St. George Theatre 35 Hyatt Street
SUMMARY:The Black Ties at Beatles Blast 2023
DESCRIPTION:Where to Turn presents “Beatles Blast 2023: Get Back to the B
 eginning!” celebrating the 60th anniversary of Please Please Me and With 
 the Beatles on the 80th birthday of George Harrison. Hosted by Ken Dashow o
 f Q104.3 FM the event will feature local Beatles tribute band The Blue Mean
 ies performing[..]\nhttps://blacktiesband.com/events/beatles-blast-2023/
URL:https://blacktiesband.com/events/beatles-blast-2023/
END:VEVENT
END:VCALENDAR