BEGIN:VCALENDAR
VERSION:2.0
PRODID:-//eventon.com NONSGML v1.0//EN
CALSCALE:GREGORIAN
METHOD:PUBLISH
BEGIN:VEVENT
UID:69e8a1008fc0f
DTSTAMP:20260422T102048Z
DTSTART:20230114T020000Z
DTEND:20230114T053000Z
LOCATION:Moore&#039;s Tavern 402 W Main Street\,  Freehold\,  NJ
SUMMARY:The Black Ties at Moore's Tavern
DESCRIPTION:Come join The Black Ties for an evening of music in Freehold! W
 e hope to see you there.\nhttps://blacktiesband.com/events/moores-tavern-1-
 13-2023/
URL:https://blacktiesband.com/events/moores-tavern-1-13-2023/
END:VEVENT
END:VCALENDAR