BEGIN:VCALENDAR
VERSION:2.0
PRODID:-//eventon.com NONSGML v1.0//EN
CALSCALE:GREGORIAN
METHOD:PUBLISH
BEGIN:VEVENT
UID:69e5b8628417f
DTSTAMP:20260420T052346Z
DTSTART:20210730T230000Z
DTEND:20210731T020000Z
LOCATION:Blue Moon South Amboy 114 S Broadway
SUMMARY:The Black Ties @ Blue Moon South Amboy
DESCRIPTION:Come join The Black Ties at Blue Moon South Amboy. We hope to s
 ee you there. Thank you!\nhttps://blacktiesband.com/events/the-black-ties-b
 lue-moon-south-amboy/
URL:https://blacktiesband.com/events/the-black-ties-blue-moon-south-amboy/
END:VEVENT
END:VCALENDAR